BEGIN:VCALENDAR
VERSION:2.0
PRODID:-//Catholics for Abolition in North Carolina - ECPv6.15.20//NONSGML v1.0//EN
CALSCALE:GREGORIAN
METHOD:PUBLISH
X-WR-CALNAME:Catholics for Abolition in North Carolina
X-ORIGINAL-URL:https://catholicsforabolitionnc.org
X-WR-CALDESC:Events for Catholics for Abolition in North Carolina
REFRESH-INTERVAL;VALUE=DURATION:PT1H
X-Robots-Tag:noindex
X-PUBLISHED-TTL:PT1H
BEGIN:VTIMEZONE
TZID:America/New_York
BEGIN:DAYLIGHT
TZOFFSETFROM:-0500
TZOFFSETTO:-0400
TZNAME:EDT
DTSTART:20230312T070000
END:DAYLIGHT
BEGIN:STANDARD
TZOFFSETFROM:-0400
TZOFFSETTO:-0500
TZNAME:EST
DTSTART:20231105T060000
END:STANDARD
BEGIN:DAYLIGHT
TZOFFSETFROM:-0500
TZOFFSETTO:-0400
TZNAME:EDT
DTSTART:20240310T070000
END:DAYLIGHT
BEGIN:STANDARD
TZOFFSETFROM:-0400
TZOFFSETTO:-0500
TZNAME:EST
DTSTART:20241103T060000
END:STANDARD
BEGIN:DAYLIGHT
TZOFFSETFROM:-0500
TZOFFSETTO:-0400
TZNAME:EDT
DTSTART:20250309T070000
END:DAYLIGHT
BEGIN:STANDARD
TZOFFSETFROM:-0400
TZOFFSETTO:-0500
TZNAME:EST
DTSTART:20251102T060000
END:STANDARD
END:VTIMEZONE
BEGIN:VEVENT
DTSTART;TZID=America/New_York:20240226T100000
DTEND;TZID=America/New_York:20240308T170000
DTSTAMP:20260419T112511
CREATED:20240226T170431Z
LAST-MODIFIED:20240228T143934Z
UID:10000078-1708941600-1709917200@catholicsforabolitionnc.org
SUMMARY:NC Racial Justice Act (RJA) Hearing for Hasson Bacote Begins!
DESCRIPTION:Please read and share the additional RJA stories that came out this past week: \n\n\n\nNBC News: North Carolina hearing over alleged racial bias in jury selection could upend death sentences; NC Newsline: Lawyers to argue death penalty is ‘a legacy of racial terrorism’ – if NC Supreme Court lets them; WRAL: Johnston County hearing could revive controversial Racial Justice Act claims in NC; WRAL: NC man fights death sentence\, challenges jury’s alleged racial bias \n\n\n\nWRAL will livestream the hearing every day this first week!
URL:https://catholicsforabolitionnc.org/event/nc-racial-justice-act-rja-hearing-for-hasson-bacote-begins/
ATTACH;FMTTYPE=image/webp:https://catholicsforabolitionnc.org/wp-content/uploads/2022/10/Dignity_and_the_Death_Penalty_-_cover_-_revised_-_020720_2000x-e1665259045287.webp
END:VEVENT
BEGIN:VEVENT
DTSTART;TZID=America/New_York:20240309T173000
DTEND;TZID=America/New_York:20240310T183000
DTSTAMP:20260419T112511
CREATED:20240307T161621Z
LAST-MODIFIED:20240307T164901Z
UID:10000083-1710005400-1710095400@catholicsforabolitionnc.org
SUMMARY:St. Francis of Assisi Catholic Community this Weekend - Write a Postcard to Gov. Roy Cooper!
DESCRIPTION:The St. Francis of Assisi parish members of Catholics for Abolition in North Carolina – a diocesan-wide anti-death penalty group – will be in the Stewardship Center after all masses this weekend. We are providing an opportunity for anyone interested to write a postcard to the governor expressing your opposition to capital punishment. This is part of a state-wide Commutation Campaign started by the NC Coalition for Alternatives to the Death Penalty.
URL:https://catholicsforabolitionnc.org/event/st-francis-of-assisi-catholic-community-this-weekend-write-a-postcard-to-gov-roy-cooper/
ATTACH;FMTTYPE=image/jpeg:https://catholicsforabolitionnc.org/wp-content/uploads/2024/03/10212320302.jpg
END:VEVENT
BEGIN:VEVENT
DTSTART;TZID=America/New_York:20240315T130000
DTEND;TZID=America/New_York:20240315T133000
DTSTAMP:20260419T112511
CREATED:20240227T215452Z
LAST-MODIFIED:20240227T215454Z
UID:10000080-1710507600-1710509400@catholicsforabolitionnc.org
SUMMARY:Rosary of the Seven Sorrows of Our Lady  to End the Death Penalty - Third Fridays of the Month @ 1:00 PM
DESCRIPTION:Catholics for Abolition in North Carolina is offering an opportunity for our members and all Catholics in the Diocese of Raleigh to join in an online recitation of the ROSARY OF THE SEVEN SORROWS for the intention of commuting NC death sentences and abolishing the death penalty in our state. Join us on FRIDAY\, March 15th at 1:00 PM. An on-screen rosary and access to the prayers and corresponding scripture will be shared. You need only bring yourself! \n\n\n\nLet us offer our prayers through the intercession of our Blessed Mother who accompanied her Precious Son to His execution on Good Friday. (Fourth & Fifth Sorrows of Our Lady) \n\n\n\nEmail director@catholicsforabolitionnc.org to receive the Zoom link for this prayer vigil or go to our Contact page to send your request.
URL:https://catholicsforabolitionnc.org/event/rosary-of-the-seven-sorrows-of-our-lady-to-end-the-death-penalty-third-fridays-of-the-month-100-pm/
ATTACH;FMTTYPE=image/jpeg:https://catholicsforabolitionnc.org/wp-content/uploads/2023/12/virgin-mary-with-seven-tears-on-her-face-scaled-1.jpeg
END:VEVENT
BEGIN:VEVENT
DTSTART;TZID=America/New_York:20240320T153000
DTEND;TZID=America/New_York:20240320T160000
DTSTAMP:20260419T112511
CREATED:20240307T155952Z
LAST-MODIFIED:20240307T155954Z
UID:10000082-1710948600-1710950400@catholicsforabolitionnc.org
SUMMARY:Divine Mercy Chaplet for Willie James Pye (GA) and His Victim
DESCRIPTION:Join members and friends of Catholics for Abolition in NC as we come together virtually to pray the Divine Mercy Chaplet for the soul of Willie James Pye and his victim Alicia Lynn Yarbrough. Please use the Contact Form to request the Zoom link for Thursday\, the 20th. All are welcome to pray for these souls. Chaplet prayers will be provided with the Zoom link.
URL:https://catholicsforabolitionnc.org/event/divine-mercy-chaplet-for-willie-james-pye-ga-and-his-victim/
ATTACH;FMTTYPE=image/jpeg:https://catholicsforabolitionnc.org/wp-content/uploads/2022/10/maria-oswalt-MPIP0sykwB4-unsplash-scaled.jpg
END:VEVENT
END:VCALENDAR