BEGIN:VCALENDAR
VERSION:2.0
PRODID:-//Catholics for Abolition in North Carolina - ECPv6.15.20//NONSGML v1.0//EN
CALSCALE:GREGORIAN
METHOD:PUBLISH
X-WR-CALNAME:Catholics for Abolition in North Carolina
X-ORIGINAL-URL:https://catholicsforabolitionnc.org
X-WR-CALDESC:Events for Catholics for Abolition in North Carolina
REFRESH-INTERVAL;VALUE=DURATION:PT1H
X-Robots-Tag:noindex
X-PUBLISHED-TTL:PT1H
BEGIN:VTIMEZONE
TZID:America/New_York
BEGIN:DAYLIGHT
TZOFFSETFROM:-0500
TZOFFSETTO:-0400
TZNAME:EDT
DTSTART:20230312T070000
END:DAYLIGHT
BEGIN:STANDARD
TZOFFSETFROM:-0400
TZOFFSETTO:-0500
TZNAME:EST
DTSTART:20231105T060000
END:STANDARD
BEGIN:DAYLIGHT
TZOFFSETFROM:-0500
TZOFFSETTO:-0400
TZNAME:EDT
DTSTART:20240310T070000
END:DAYLIGHT
BEGIN:STANDARD
TZOFFSETFROM:-0400
TZOFFSETTO:-0500
TZNAME:EST
DTSTART:20241103T060000
END:STANDARD
BEGIN:DAYLIGHT
TZOFFSETFROM:-0500
TZOFFSETTO:-0400
TZNAME:EDT
DTSTART:20250309T070000
END:DAYLIGHT
BEGIN:STANDARD
TZOFFSETFROM:-0400
TZOFFSETTO:-0500
TZNAME:EST
DTSTART:20251102T060000
END:STANDARD
END:VTIMEZONE
BEGIN:VEVENT
DTSTART;TZID=America/New_York:20240816T130000
DTEND;TZID=America/New_York:20240816T133000
DTSTAMP:20260420T082127
CREATED:20240708T024305Z
LAST-MODIFIED:20240708T024326Z
UID:10000098-1723813200-1723815000@catholicsforabolitionnc.org
SUMMARY:Seven Sorrows Chaplet - Third Fridays each Month
DESCRIPTION:Join members of Catholics for Abolition in North Carolina as we pray the Seven Sorrows of Our Lady chaplet at 1:00PM. We pray this special prayer\, requested by the Virgin Mary\, centuries ago\, for our intention of ending the death penalty in NC and around the nation.  \n\n\n\nYou do not need the chaplet rosary itself or the prayers\, as we follow a beautiful online version of it together. Go to the Contact Us tab to request the Zoom link for August 16th and for each subsequent third Friday of the month. (Click on Other in the list of options.) This chaplet will take about a half hour. Join us if you can!
URL:https://catholicsforabolitionnc.org/event/seven-sorrows-chaplet-third-fridays-each-month-4/
ATTACH;FMTTYPE=image/jpeg:https://catholicsforabolitionnc.org/wp-content/uploads/2024/07/Mary-Holding-the-Dead-Jesus-in-her-Arms-scaled.jpg
END:VEVENT
END:VCALENDAR